BEGIN:VCALENDAR
VERSION:2.0
PRODID:-//wp-events-plugin.com//7.2.3.1//EN
TZID:Europe/Vienna
X-WR-TIMEZONE:Europe/Vienna
BEGIN:VEVENT
UID:356@naturfreunde-stveit.at
DTSTART;TZID=Europe/Vienna;VALUE=DATE:20251019
DTEND;TZID=Europe/Vienna;VALUE=DATE:20251020
DTSTAMP:20241219T155257Z
URL:https://www.naturfreunde-stveit.at/events/wanderung-gruentalkogelhuett
 e/
SUMMARY:Wanderung Grüntalkogelhütte
DESCRIPTION:Leichte Wanderung via Burg Plankenstein über Texingtaler Höhe
 nweg.\n\n	Tourdaten: 8 km\, 300 hm\n	Gehzeit: ca. 3 Stunden\n
CATEGORIES:Wandern
END:VEVENT
BEGIN:VTIMEZONE
TZID:Europe/Vienna
X-LIC-LOCATION:Europe/Vienna
BEGIN:DAYLIGHT
DTSTART:20250330T030000
TZOFFSETFROM:+0100
TZOFFSETTO:+0200
TZNAME:CEST
END:DAYLIGHT
END:VTIMEZONE
END:VCALENDAR