BEGIN:VCALENDAR
VERSION:2.0
PRODID:-//wp-events-plugin.com//7.2.3.1//EN
TZID:Europe/Vienna
X-WR-TIMEZONE:Europe/Vienna
BEGIN:VEVENT
UID:68@naturfreunde-stveit.at
DTSTART;TZID=Europe/Vienna;VALUE=DATE:20210109
DTEND;TZID=Europe/Vienna;VALUE=DATE:20210110
DTSTAMP:20210104T141329Z
URL:https://www.naturfreunde-stveit.at/events/schitour/
SUMMARY:Schitour Kleinzell - Hochstaff
DESCRIPTION:Aufgrund der mangelnden Schneelage und der gesetzlichen Rahmenb
 edingungen kann die Skitour leider nicht stattfinden!\n&nbsp\;\n\nZiel:\nK
 leinzell - Hochstaff\n&nbsp\;\n\nThema:\n\nEine leichte und auch für Anf
 änger sehr gut geeignete Skitour.\n\n&nbsp\;\n\nAnforderungen:\n\nKonditi
 on für einen Aufstieg von 900 hm und 2\,5 Stunden. Die Abfahrt erfolgt zu
 m Teil über sanfte Wiesen und Forststraßen in unpräpariertem Gelände.\
 n\n&nbsp\;\n\nAusrüstung:\n\nTourenski mit Skistopper\, Tourenskischuhe\,
  Skistöcke\, Steigfelle. Die Kleidung soll nicht zu warm gewählt werden.
  Ein kleiner Rucksack zur Mitnahme eines Getränks und eventuell ein zweit
 es T-Shirt zum Wechseln werden angeraten. Die Verwendung eines Skihelm wir
 d empfohlen.\n&nbsp\;\n\nEinkehr:\n\nkeine\n\n&nbsp\;\n\nTeilnehmeranzahl:
 \n\nmax. 8 Personen\n\n&nbsp\;\n\nTourenführung:\n\nRainer Hochreiter (Ü
 bungsleiter Schitouren)\, Naturfreunde St. Veit / Gölsen\, Sektion Schito
 uren\n\n[wp-svg-icons icon="phone" wrap="i"] +43 664 2812175\n\n[wp-svg-ic
 ons icon="envelop" wrap="i"] schitouren@naturfreunde-stveit.at\n\n&nbsp\;\
 n\nACHTUNG: Anmeldeschluss:\nBis spätestens 3. Jänner 2021 bzw. solange 
 Plätze verfügbar sind.\n\n\nTeilnahme nur mit Voranmeldung möglich.\n\n
 &nbsp\;\n\nBitte beachten:\n\nDie Planung einer Schitour ist ein ständige
 r Prozess bei der es immer wieder aufgrund von Witterungseinflüssen zu Ä
 nderungen kommen kann.\n\n&nbsp\;\n\nMit einem herzlichen „Berg frei“
CATEGORIES:Skitour,Termin
END:VEVENT
BEGIN:VTIMEZONE
TZID:Europe/Vienna
X-LIC-LOCATION:Europe/Vienna
BEGIN:STANDARD
DTSTART:20201025T020000
TZOFFSETFROM:+0200
TZOFFSETTO:+0100
TZNAME:CET
END:STANDARD
END:VTIMEZONE
END:VCALENDAR