BEGIN:VCALENDAR
VERSION:2.0
PRODID:-//wp-events-plugin.com//7.2.3.1//EN
TZID:Europe/Vienna
X-WR-TIMEZONE:Europe/Vienna
BEGIN:VEVENT
UID:59@naturfreunde-stveit.at
DTSTART;VALUE=DATE:20200829
DTEND;VALUE=DATE:20200831
DTSTAMP:20191219T223646Z
URL:https://www.naturfreunde-stveit.at/events/bergtour-sonnblick/
SUMMARY:Bergtour-Sonnblick
DESCRIPTION:hochalpine Bergtour auf den Hohen Sonnblick\n\n&nbsp\;\n\nAnrei
 se nach Kolm Saigurn (Rauris)\, Aufstieg zum Sonnblick Observatorium (Wett
 erstation) zur Besichtigung und anschließend Nächtigung im Zittelhaus\nV
 oraussetzungen sind gute Kondition und Trittsicherheit\; teilweise ausgese
 tztes Gelände\nAbfahrt: 5:30 Uhr\, GH Bekier\, Wiesenfeld\nOrganisation: 
 Christian Auer (Tel. 0664 15 43 561 bzw. wandern@naturfreunde-stveit.at)\n
CATEGORIES:Wandern
END:VEVENT
END:VCALENDAR